View In:
ArcGIS JavaScript
ArcGIS Online Map Viewer
ArcGIS Earth
ArcMap
View Footprint In:
ArcGIS Online Map Viewer
Service Description: DMT_Orthomosaic_Whole_8bit_T
Name: UDM/DMT_Orthomosaic_Whole_8bit_T
Description: DMT_Orthomosaic_Whole_8bit_T
Single Fused Map Cache: false
Extent:
XMin: 51.528288683591384
YMin: 22.69220536329575
XMax: 56.01814518854329
YMax: 25.1677126013037
Spatial Reference: 4326
(4326)
Initial Extent:
XMin: 51.528288683591384
YMin: 22.69220536329575
XMax: 56.01814518854329
YMax: 25.1677126013037
Spatial Reference: 4326
(4326)
Full Extent:
XMin: 51.528288683591384
YMin: 22.69220536329575
XMax: 56.01814518854329
YMax: 25.1677126013037
Spatial Reference: 4326
(4326)
Pixel Size X: 4.986407999999899E-6
Pixel Size Y: 4.986407999999899E-6
Band Count: 4
Pixel Type: U8
RasterFunction Infos: {"rasterFunctionInfos": [{
"name": "None",
"description": "",
"help": ""
}]}
Mensuration Capabilities: Basic
Has Histograms: false
Has Colormap: false
Has Multi Dimensions : false
Rendering Rule:
Min Scale: 0
Max Scale: 0
Copyright Text: DMT-SDD
Service Data Type: esriImageServiceDataTypeGeneric
Min Values: N/A
Max Values: N/A
Mean Values: N/A
Standard Deviation Values: N/A
Object ID Field:
Fields:
None
Default Mosaic Method: Center
Allowed Mosaic Methods:
SortField:
SortValue: null
Mosaic Operator: First
Default Compression Quality: 75
Default Resampling Method: Bilinear
Max Record Count: null
Max Image Height: 4100
Max Image Width: 15000
Max Download Image Count: null
Max Mosaic Image Count: null
Allow Raster Function: true
Allow Compute TiePoints: false
Supports Statistics: false
Supports Advanced Queries: false
Use StandardizedQueries: true
Raster Type Infos:
Name: Raster Dataset
Description: Supports all ArcGIS Raster Datasets
Help:
Has Raster Attribute Table: false
Edit Fields Info: null
Ownership Based AccessControl For Rasters: null
Child Resources:
Info
Key Properties
Legend
rasterFunctionInfos
Supported Operations:
Export Image
Identify
Measure
Compute Histograms
Compute Statistics Histograms
Get Samples
Compute Class Statistics
Query Boundary
Compute Pixel Location
Validate
Project